0.014545454545455
0.000000000000000
0.000000000000000
-0.014545454545455
-101.775362354625000
29.908727638938199
