0.014480000000000
0.000000000000000
0.000000000000000
-0.014480000000000
-106.053759633789370
39.207761708984329
