0.010568209561435
0.000000000000000
0.000000000000000
-0.010568209561435
-127.272181021950000
50.016974653764201
