0.008343712463379
0.000000000000000
0.000000000000000
-0.008343712463379
-85.507950950775125
33.178033986969005
