0.010836822509766
0.000000000000000
0.000000000000000
-0.010836822509766
-115.930625900268440
46.080706771850600
