0.010563920288086
0.000000000000000
0.000000000000000
-0.010563920288086
-117.160503440246160
49.946600837097193
