0.008343712463379
0.000000000000000
0.000000000000000
-0.008343712463379
-84.206331806488024
32.777535788726823
