0.007998657226563
0.000000000000000
0.000000000000000
-0.007998657226563
-99.823395080566428
28.120430297851520
