0.014545454545455
0.000000000000000
0.000000000000000
-0.014545454545455
-117.041361194957010
47.098726265647201
