0.014545454545455
0.000000000000000
0.000000000000000
-0.014545454545455
-112.833361011852010
47.058729164817102
