0.014545454545455
0.000000000000000
0.000000000000000
-0.014545454545455
-87.758364063609704
40.160726540305397
