0.014545454545455
0.000000000000000
0.000000000000000
-0.014545454545455
-106.545366627086000
35.935728066184303
