0.014545454545455
0.000000000000000
0.000000000000000
-0.014545454545455
-121.158365589488990
44.732728951194098
