0.014545454545455
0.000000000000000
0.000000000000000
-0.014545454545455
-104.932360035288990
45.950727455832698
