0.014545454545455
0.000000000000000
0.000000000000000
-0.014545454545455
-106.170366627086000
37.646726601340603
