0.014545454545455
0.000000000000000
0.000000000000000
-0.014545454545455
-87.707361561168298
36.667726509787798
