0.014545454545455
0.000000000000000
0.000000000000000
-0.014545454545455
-90.636362415660500
43.700727455832698
