0.014545454545455
0.000000000000000
0.000000000000000
-0.014545454545455
-93.693361622203497
44.143728249289801
