0.014545454545455
0.000000000000000
0.000000000000000
-0.014545454545455
-159.928369861949990
23.090726845481200
