0.014545454545455
0.000000000000000
0.000000000000000
-0.014545454545455
-90.440363270152702
38.923727028586597
