0.014545454545455
0.000000000000000
0.000000000000000
-0.014545454545455
-91.641367298473000
40.729726784446001
