0.014545454545455
0.000000000000000
0.000000000000000
-0.014545454545455
-160.137369495738990
24.121726982810301
