0.014545454545455
0.000000000000000
0.000000000000000
-0.014545454545455
-163.911356312144990
25.889726631858103
