0.014545454545455
0.000000000000000
0.000000000000000
-0.014545454545455
-86.576364857066807
38.875726692893302
