0.014545454545455
0.000000000000000
0.000000000000000
-0.014545454545455
-92.467363697398795
48.490728371360099
