0.014545454545455
0.000000000000000
0.000000000000000
-0.014545454545455
-110.980364185680000
52.198728554465603
