0.014545454545455
0.000000000000000
0.000000000000000
-0.014545454545455
-108.901361805308990
43.778726570822997
