0.014545454545455
0.000000000000000
0.000000000000000
-0.014545454545455
-115.553362232555000
38.566728584983103
