0.014545454545455
0.000000000000000
0.000000000000000
-0.014545454545455
-88.922365528453497
37.355726235129602
