0.014545454545455
0.000000000000000
0.000000000000000
-0.014545454545455
-90.277361255992503
34.556726448752698
