0.014545454545455
0.000000000000000
0.000000000000000
-0.014545454545455
-119.247362476696000
39.693727486350298
