0.014545454545455
0.000000000000000
0.000000000000000
-0.014545454545455
-78.420366627086295
46.578725807883501
