0.014545454545455
0.000000000000000
0.000000000000000
-0.014545454545455
-114.986360889782010
35.886726372458703
