0.014545454545455
0.000000000000000
0.000000000000000
-0.014545454545455
-98.079363209117503
45.723726265647201
