0.014545454545455
0.000000000000000
0.000000000000000
-0.014545454545455
-96.566362720836295
50.829729073264403
