0.014545454545455
0.000000000000000
0.000000000000000
-0.014545454545455
-78.767366749156594
43.939725868918700
