0.014545454545455
0.000000000000000
0.000000000000000
-0.014545454545455
-104.324365955700000
41.753728859641299
