0.014545454545455
0.000000000000000
0.000000000000000
-0.014545454545455
-109.162363392223000
45.144727699973402
