0.014545454545455
0.000000000000000
0.000000000000000
-0.014545454545455
-77.522364002574605
48.503728859641299
