0.014545454545455
0.000000000000000
0.000000000000000
-0.014545454545455
-72.163362842906594
50.031728737571001
