0.014545454545455
0.000000000000000
0.000000000000000
-0.014545454545455
-80.341364246715202
46.193727486350298
