0.014545454545455
0.000000000000000
0.000000000000000
-0.014545454545455
-111.179361683238990
39.142728798606200
