0.00854630903764203
0.000000
0.000000
-0.00854630903764203
-85.9106174815785
35.0209610678933
