0.00993008700284089
0.000000
0.000000
-0.00993008700284089
-99.7030573342063
46.3138101335005
