0.0082472645152699
0.000000
0.000000
-0.0082472645152699
-102.75005450162
31.5368748266047
