0.00959098122336646
0.000000
0.000000
-0.00959098122336646
-84.7324994867498
44.045722545277
