0.007912320223722
0.000000000000000
0.000000000000000
-0.007912320223722
-84.072742836692100
26.768932023481899
