0.0145454545454545
0.000000
0.000000
-0.0145454545454545
-77.2203620494496
44.8587284018777
