0.0145454545454545
0.000000
0.000000
-0.0145454545454545
-97.9213660777699
48.8417262961648
