0.0145454545454545
0.000000
0.000000
-0.0145454545454545
-127.072367054332
46.0737285544656
